BEGIN:VCALENDAR
VERSION:2.0
PRODID:-//Raise Your Kundalini Yoga and Meditation Center of Las Vegas - ECPv6.15.20//NONSGML v1.0//EN
CALSCALE:GREGORIAN
METHOD:PUBLISH
X-WR-CALNAME:Raise Your Kundalini Yoga and Meditation Center of Las Vegas
X-ORIGINAL-URL:https://rykyoga.com
X-WR-CALDESC:Events for Raise Your Kundalini Yoga and Meditation Center of Las Vegas
REFRESH-INTERVAL;VALUE=DURATION:PT1H
X-Robots-Tag:noindex
X-PUBLISHED-TTL:PT1H
BEGIN:VTIMEZONE
TZID:America/Los_Angeles
BEGIN:DAYLIGHT
TZOFFSETFROM:-0800
TZOFFSETTO:-0700
TZNAME:PDT
DTSTART:20250309T100000
END:DAYLIGHT
BEGIN:STANDARD
TZOFFSETFROM:-0700
TZOFFSETTO:-0800
TZNAME:PST
DTSTART:20251102T090000
END:STANDARD
BEGIN:DAYLIGHT
TZOFFSETFROM:-0800
TZOFFSETTO:-0700
TZNAME:PDT
DTSTART:20260308T100000
END:DAYLIGHT
BEGIN:STANDARD
TZOFFSETFROM:-0700
TZOFFSETTO:-0800
TZNAME:PST
DTSTART:20261101T090000
END:STANDARD
BEGIN:DAYLIGHT
TZOFFSETFROM:-0800
TZOFFSETTO:-0700
TZNAME:PDT
DTSTART:20270314T100000
END:DAYLIGHT
BEGIN:STANDARD
TZOFFSETFROM:-0700
TZOFFSETTO:-0800
TZNAME:PST
DTSTART:20271107T090000
END:STANDARD
END:VTIMEZONE
BEGIN:VEVENT
DTSTART;TZID=America/Los_Angeles:20260425T180000
DTEND;TZID=America/Los_Angeles:20260425T200000
DTSTAMP:20260422T211822
CREATED:20260310T171646Z
LAST-MODIFIED:20260323T173635Z
UID:31121-1777140000-1777147200@rykyoga.com
SUMMARY:Kirtan Awakening
DESCRIPTION:No event ID found.				\n				\n				\n				\n					Full Moon Meditation				\n				\n				\n				\n									\n					\n						\n									Reserve a spot\n					\n					\n				\n								\n				\n					\n		\n					\n		\n					\n		\n					\n		\n				\n							\n							\n					\n			\n						\n				\n																														\n				\n				\n				\n					Full Moon Healing Ring of Tantra				\n				\n				\n				\n					\n		\n			April 2\n\n	\n\n	  @  \n\n\n6:00 pm\n\n		\n\n\n\n	\n	  -  \n\n8:00 pm\n\n\n\n	\n				\n				\n				\n				\n									$30 IN PERSON\, $20 ONLINE 								\n				\n		\n					\n				\n				\n									\n					\n						\n									IN-PERSON\n					\n					\n				\n								\n				\n				\n				\n									\n					\n						\n									ONLINE\n					\n					\n				\n								\n				\n					\n				\n				\n				\n									Join us on the powerful Full Moon of Thursday\, April 2 for a rare and ancient Kundalini Yoga meditation known as The Healing Ring of Tantra. In this sacred practice\, participants sit together forming a circle — a tantric field of awareness where community\, energy\, and mantra unite to generate a powerful current of healing. Within this ring\, energy can be directed toward someone present in the circle\, someone far away\, or toward a person lying in the center of the circle receiving the collective transmission. Both those offering and those receiving become enclosed within this powerful field. Individual energy merges with the strength of the spiritual community and the vast current of universal consciousness. In the tantric tradition\, the circle multiplies the power of intention\, allowing the group to generate far more healing energy than any individual alone. In this shared space\, intention is magnified\, and the circle becomes a living conduit for restoration\, harmony\, and grace. The Full Moon amplifies this process\, heightening sensitivity\, intuition\, and the ability to transmit and receive subtle vibrations. As the moon reaches its fullness\, the healing ring becomes a powerful channel for renewal and transformation. 								\n				\n				\n						\n					\n			\n						\n				\n									After the meditation\, allow yourself to integrate the experience as you immerse in the healing vibrations of the LIVE Gong Bath\, letting the sound carry the energy deeper into the body and nervous system. 								\n				\n					\n		\n					\n		\n				\n						\n					\n			\n						\n				\n									There is a minimum of 11 participants required to generate the tantric healing ring. Our space can accommodate 69 participants\, so please RSVP early to ensure your place. Please bring a photo or the name of someone you would like to include in the healing meditation. 								\n				\n					\n		\n					\n		\n				\n						\n					\n			\n						\n				\n									\n					\n						\n									IN-PERSON\n					\n					\n				\n								\n				\n					\n		\n				\n			\n						\n				\n									\n					\n						\n									ONLINE
URL:https://rykyoga.com/event/kirtan-awakening-4/
CATEGORIES:Special Events
ATTACH;FMTTYPE=image/jpeg:https://rykyoga.com/wp-content/uploads/2026/01/kritan-awakening-tn.jpg
END:VEVENT
BEGIN:VEVENT
DTSTART;TZID=America/Los_Angeles:20260430T180000
DTEND;TZID=America/Los_Angeles:20260430T200000
DTSTAMP:20260422T211822
CREATED:20250429T195120Z
LAST-MODIFIED:20260317T233158Z
UID:28130-1777572000-1777579200@rykyoga.com
SUMMARY:Full Moon Meditation & Lord Buddha’s Birthday
DESCRIPTION:No event ID found.				\n				\n				\n				\n					Full Moon Meditation				\n				\n				\n				\n									\n					\n						\n									Reserve a spot\n					\n					\n				\n								\n				\n					\n		\n					\n		\n					\n		\n					\n		\n				\n							\n							\n					\n			\n						\n				\n																														\n				\n				\n				\n					Full Moon Healing Ring of Tantra				\n				\n				\n				\n					\n		\n			April 2\n\n	\n\n	  @  \n\n\n6:00 pm\n\n		\n\n\n\n	\n	  -  \n\n8:00 pm\n\n\n\n	\n				\n				\n				\n				\n									$30 IN PERSON\, $20 ONLINE 								\n				\n		\n					\n				\n				\n									\n					\n						\n									IN-PERSON\n					\n					\n				\n								\n				\n				\n				\n									\n					\n						\n									ONLINE\n					\n					\n				\n								\n				\n					\n				\n				\n				\n									Join us on the powerful Full Moon of Thursday\, April 2 for a rare and ancient Kundalini Yoga meditation known as The Healing Ring of Tantra. In this sacred practice\, participants sit together forming a circle — a tantric field of awareness where community\, energy\, and mantra unite to generate a powerful current of healing. Within this ring\, energy can be directed toward someone present in the circle\, someone far away\, or toward a person lying in the center of the circle receiving the collective transmission. Both those offering and those receiving become enclosed within this powerful field. Individual energy merges with the strength of the spiritual community and the vast current of universal consciousness. In the tantric tradition\, the circle multiplies the power of intention\, allowing the group to generate far more healing energy than any individual alone. In this shared space\, intention is magnified\, and the circle becomes a living conduit for restoration\, harmony\, and grace. The Full Moon amplifies this process\, heightening sensitivity\, intuition\, and the ability to transmit and receive subtle vibrations. As the moon reaches its fullness\, the healing ring becomes a powerful channel for renewal and transformation. 								\n				\n				\n						\n					\n			\n						\n				\n									After the meditation\, allow yourself to integrate the experience as you immerse in the healing vibrations of the LIVE Gong Bath\, letting the sound carry the energy deeper into the body and nervous system. 								\n				\n					\n		\n					\n		\n				\n						\n					\n			\n						\n				\n									There is a minimum of 11 participants required to generate the tantric healing ring. Our space can accommodate 69 participants\, so please RSVP early to ensure your place. Please bring a photo or the name of someone you would like to include in the healing meditation. 								\n				\n					\n		\n					\n		\n				\n						\n					\n			\n						\n				\n									\n					\n						\n									IN-PERSON\n					\n					\n				\n								\n				\n					\n		\n				\n			\n						\n				\n									\n					\n						\n									ONLINE
URL:https://rykyoga.com/event/full-moon-meditation-lord-buddhas-birthday/
CATEGORIES:Full Moon Meditation
ATTACH;FMTTYPE=image/jpeg:https://rykyoga.com/wp-content/uploads/2024/05/lord-buddha-birthday.jpg
END:VEVENT
END:VCALENDAR