BEGIN:VCALENDAR
VERSION:2.0
PRODID:-//Raise Your Kundalini Yoga and Meditation Center of Las Vegas - ECPv6.15.20//NONSGML v1.0//EN
CALSCALE:GREGORIAN
METHOD:PUBLISH
X-WR-CALNAME:Raise Your Kundalini Yoga and Meditation Center of Las Vegas
X-ORIGINAL-URL:https://rykyoga.com
X-WR-CALDESC:Events for Raise Your Kundalini Yoga and Meditation Center of Las Vegas
REFRESH-INTERVAL;VALUE=DURATION:PT1H
X-Robots-Tag:noindex
X-PUBLISHED-TTL:PT1H
BEGIN:VTIMEZONE
TZID:America/Los_Angeles
BEGIN:DAYLIGHT
TZOFFSETFROM:-0800
TZOFFSETTO:-0700
TZNAME:PDT
DTSTART:20220313T100000
END:DAYLIGHT
BEGIN:STANDARD
TZOFFSETFROM:-0700
TZOFFSETTO:-0800
TZNAME:PST
DTSTART:20221106T090000
END:STANDARD
BEGIN:DAYLIGHT
TZOFFSETFROM:-0800
TZOFFSETTO:-0700
TZNAME:PDT
DTSTART:20230312T100000
END:DAYLIGHT
BEGIN:STANDARD
TZOFFSETFROM:-0700
TZOFFSETTO:-0800
TZNAME:PST
DTSTART:20231105T090000
END:STANDARD
BEGIN:DAYLIGHT
TZOFFSETFROM:-0800
TZOFFSETTO:-0700
TZNAME:PDT
DTSTART:20240310T100000
END:DAYLIGHT
BEGIN:STANDARD
TZOFFSETFROM:-0700
TZOFFSETTO:-0800
TZNAME:PST
DTSTART:20241103T090000
END:STANDARD
END:VTIMEZONE
BEGIN:VEVENT
DTSTART;VALUE=DATE:20230618
DTEND;VALUE=DATE:20230626
DTSTAMP:20260423T012835
CREATED:20230514T205817Z
LAST-MODIFIED:20260210T183432Z
UID:17340-1687046400-1687737599@rykyoga.com
SUMMARY:Summer Solstice “Rewrite Your Destiny”
DESCRIPTION:As the energy of the sun reaches its peak\, join us for a transformative meditation retreat that takes you on a journey of self-discovery and inner peace. This is the perfect opportunity to immerse yourself in a spiritual community and connect with the powerful energy of the Summer Solstice! Our retreat center is set amidst the breathtaking beauty of nature\, offering the perfect setting for you to unplug from the stress of daily life and focus on your inner journey. Whether you’re a seasoned meditator or a beginner\, our program is designed to meet you where you are and take you deeper into your practice. “The Summer Solstice is one day when the sun is at its ecstasy and the power of prana is the maximum so that you can be enriched with that vital primal force so that your destiny can be rewritten.” – Yogi Bhajan During the retreat you recharge and reconnect with yourself and others\, surrounded by the powerful and healing land of North Carolina. Nourish your body with ayurvedic organic vegetarian meals\, and renew your spirit with daily kundalini yoga\, meditation and other ancient practices. Give yourself time to relax\, reflect\, and enjoy the beauty of your surroundings. Experiencing the love and support of the spiritual community during the Solstice\, as fellow retreat participants gather for profound transformative work\, inner growth is an exhilarating and uplifting event. Leave feeling rejuvenated\, centered\, and connected to yourself and the world around you. Gift yourself this incredible opportunity to transform your life and connect with the auspicious power of the Summer Solstice. Join us for a week of meditation\, relaxation\, and community in a stunning natural setting\, unplugging from the Matrix!
URL:https://rykyoga.com/event/summer-solstice-rewrite-your-destiny/
CATEGORIES:7 Day Retreats
ATTACH;FMTTYPE=image/jpeg:https://rykyoga.com/wp-content/uploads/2023/05/summer-solstice-banner.jpg
END:VEVENT
END:VCALENDAR