BEGIN:VCALENDAR
VERSION:2.0
PRODID:-//Raise Your Kundalini Yoga and Meditation Center of Las Vegas - ECPv6.15.20//NONSGML v1.0//EN
CALSCALE:GREGORIAN
METHOD:PUBLISH
X-WR-CALNAME:Raise Your Kundalini Yoga and Meditation Center of Las Vegas
X-ORIGINAL-URL:https://rykyoga.com
X-WR-CALDESC:Events for Raise Your Kundalini Yoga and Meditation Center of Las Vegas
REFRESH-INTERVAL;VALUE=DURATION:PT1H
X-Robots-Tag:noindex
X-PUBLISHED-TTL:PT1H
BEGIN:VTIMEZONE
TZID:America/Los_Angeles
BEGIN:DAYLIGHT
TZOFFSETFROM:-0800
TZOFFSETTO:-0700
TZNAME:PDT
DTSTART:20250309T100000
END:DAYLIGHT
BEGIN:STANDARD
TZOFFSETFROM:-0700
TZOFFSETTO:-0800
TZNAME:PST
DTSTART:20251102T090000
END:STANDARD
BEGIN:DAYLIGHT
TZOFFSETFROM:-0800
TZOFFSETTO:-0700
TZNAME:PDT
DTSTART:20260308T100000
END:DAYLIGHT
BEGIN:STANDARD
TZOFFSETFROM:-0700
TZOFFSETTO:-0800
TZNAME:PST
DTSTART:20261101T090000
END:STANDARD
BEGIN:DAYLIGHT
TZOFFSETFROM:-0800
TZOFFSETTO:-0700
TZNAME:PDT
DTSTART:20270314T100000
END:DAYLIGHT
BEGIN:STANDARD
TZOFFSETFROM:-0700
TZOFFSETTO:-0800
TZNAME:PST
DTSTART:20271107T090000
END:STANDARD
END:VTIMEZONE
BEGIN:VEVENT
DTSTART;TZID=America/Los_Angeles:20260321T090000
DTEND;TZID=America/Los_Angeles:20260322T170000
DTSTAMP:20260425T041331
CREATED:20251202T015751Z
LAST-MODIFIED:20260323T165208Z
UID:29864-1774083600-1774198800@rykyoga.com
SUMMARY:SOHAM: Mantra & Meditation Retreat with Manish Vyas
DESCRIPTION:This Event has passed.				\n				\n					\n		\n					\n		\n					\n		\n					\n		\n				\n							\n							\n					\n			\n						\n				\n									2 Day EventMarch 21 & 22\, 2026 @ 9am-5pm 								\n				\n				\n				\n					SOHAM: Mantra & Meditation Retreat\nwith Manish Vyas\n				\n				\n				\n				\n									BOTH DAYS: $249  								\n				\n				\n						\n					\n			\n						\n				\n									\n					\n						\n									IN-PERSON\n					\n					\n				\n								\n				\n					\n		\n				\n			\n						\n				\n									\n					\n						\n									ONLINE\n					\n					\n				\n								\n				\n					\n		\n					\n		\n				\n				\n									1 DAY: $149  								\n				\n				\n						\n					\n			\n						\n				\n									\n					\n						\n									IN-PERSON\n					\n					\n				\n								\n				\n					\n		\n				\n			\n						\n				\n									\n					\n						\n									ONLINE\n					\n					\n				\n								\n				\n					\n		\n					\n		\n				\n				\n									Rejuvenate Yourself Through the Power of Sound\, Breath\, Celebration and Silence. Allow yourself to be refreshed and uplifted by the sacred vibration of Naad — the essence of Sound. Join Manish Vyas\, renowned conductor\, composer\, singer and student of Mantra Science from India\, for a blissful weekend retreat devoted to music\, meditation\, and inner stillness. Through Sanskrit chants\, Shlokas\, Kirtans\, and Mantras\, we will journey into the ancient sound traditions of India\, discovering how these timeless vibrations awaken harmony and healing within. Along the way\, gentle breathwork and pranayama will open and expand your inner energy\, while active and passive meditations guide you into deep states of awareness and silence. Through mudra practices\, you’ll discover the art of instant transformation of doshas and energy flow\, and through the wisdom of enlightened mystics\, you’ll receive insights into the art of devotion and stillness. An effortless weekend of joy\, sound\, and silence — where the resonance of Naad Shakti invites you to rest deeply in yourself and in the peace that lies within. Manish Vyas\, composer and publisher of 33 Bhakti albums\, is from India and was born in a Brahmin family carrying these millenary traditions from the path of Sanatan Dharma\, which Manish absorbed since birth and also learnt through different Maestros and Gurus in India. That is why his presentation is like going to the source of where Yoga\, Mantra\, Tantra\, Dhyan\, Pranayam\, and so many other sciences come from: Bhãrat: India. 								\n				\n				\n						\n					\n			\n						\n				\n									Indian Lunch and Organic Yogi Tea Provided RSVP Required – Limited Spots Available! 								\n				\n					\n		\n					\n		\n				\n						\n					\n			\n						\n				\n							\n					\n						\n				\n					\n		\n					\n		\n				\n						\n					\n			\n							\n		\n				\n			\n							\n		\n					\n		\n				\n						\n					\n			\n						\n				\n									For Out-of-State ParticipantsThe nearest and most convenient accommodation is: Best Western Plus Las Vegas West 8669 W Sahara Ave\, Las Vegas\, NV 89117 (702) 256-3766 It is just a 10-minute walk from RYK Yoga Center — approximately 0.4 miles. 								\n				\n					\n		\n					\n		\n				\n						\n					\n			\n						\n				\n					+ Google Calendar+ ICalendar+Outlook Live
URL:https://rykyoga.com/event/soham-mantra-meditation-retreat-with-manish-vyas/
CATEGORIES:Special Events
ATTACH;FMTTYPE=image/jpeg:https://rykyoga.com/wp-content/uploads/2025/02/manish-vyas-event2.jpg
END:VEVENT
END:VCALENDAR