BEGIN:VCALENDAR
VERSION:2.0
PRODID:-//Raise Your Kundalini Yoga and Meditation Center of Las Vegas - ECPv6.15.20//NONSGML v1.0//EN
CALSCALE:GREGORIAN
METHOD:PUBLISH
X-WR-CALNAME:Raise Your Kundalini Yoga and Meditation Center of Las Vegas
X-ORIGINAL-URL:https://rykyoga.com
X-WR-CALDESC:Events for Raise Your Kundalini Yoga and Meditation Center of Las Vegas
REFRESH-INTERVAL;VALUE=DURATION:PT1H
X-Robots-Tag:noindex
X-PUBLISHED-TTL:PT1H
BEGIN:VTIMEZONE
TZID:America/Los_Angeles
BEGIN:DAYLIGHT
TZOFFSETFROM:-0800
TZOFFSETTO:-0700
TZNAME:PDT
DTSTART:20250309T100000
END:DAYLIGHT
BEGIN:STANDARD
TZOFFSETFROM:-0700
TZOFFSETTO:-0800
TZNAME:PST
DTSTART:20251102T090000
END:STANDARD
BEGIN:DAYLIGHT
TZOFFSETFROM:-0800
TZOFFSETTO:-0700
TZNAME:PDT
DTSTART:20260308T100000
END:DAYLIGHT
BEGIN:STANDARD
TZOFFSETFROM:-0700
TZOFFSETTO:-0800
TZNAME:PST
DTSTART:20261101T090000
END:STANDARD
BEGIN:DAYLIGHT
TZOFFSETFROM:-0800
TZOFFSETTO:-0700
TZNAME:PDT
DTSTART:20270314T100000
END:DAYLIGHT
BEGIN:STANDARD
TZOFFSETFROM:-0700
TZOFFSETTO:-0800
TZNAME:PST
DTSTART:20271107T090000
END:STANDARD
END:VTIMEZONE
BEGIN:VEVENT
DTSTART;TZID=America/Los_Angeles:20260214T180000
DTEND;TZID=America/Los_Angeles:20260214T200000
DTSTAMP:20260425T100919
CREATED:20260122T013104Z
LAST-MODIFIED:20260223T194611Z
UID:30604-1771092000-1771099200@rykyoga.com
SUMMARY:Sacred Union Tantra Rose Cacao Ceremony
DESCRIPTION:This Event has passed.				\n				\n					\n		\n					\n		\n					\n		\n					\n		\n				\n							\n							\n					\n			\n						\n				\n									Saturday\, February 14 @ 6pm-8pm $108 PERSON\, $108 COUPLE 								\n				\n				\n				\n					Sacred Union Tantra Rose Cacao Ceremony				\n				\n				\n				\n					Within Sacred Sound Symphony by InnerFlight Harmonics				\n				\n				\n						\n					\n			\n						\n				\n									\n					\n						\n									SINGLE\n					\n					\n				\n								\n				\n					\n		\n				\n			\n						\n				\n									\n					\n						\n									COUPLE\n					\n					\n				\n								\n				\n					\n		\n					\n		\n				\n				\n									Step into a sanctuary of sacred remembrance—where love\, devotion\, and divine union unfold through ritual\, sound\, and ceremony. This immersive evening is an offering into the living mystery of Sacred Union between the Authentic Masculine and the Authentic Feminine. Guided with reverence and tenderness\, we invite you and your beloved into a Tantra Union Rose Cacao Ceremony\, where every gesture\, breath\, and gaze becomes prayer—where the alchemy of love becomes tangible\, radiant\, and alive. The Ceremony Journey  Opening with Rose Cacao MedicineTantra Union InitiationEye GazingCircular BreathingShiva–Shakti AlignmentSacred EmbraceSacred Sound Symphony Facilitated by: InfiniteMa & InnerFlight Harmonics Certified sound healers\, neo-shamanic guides & musical alchemists. Throughout the evening\, the soundscape of InnerFlight Harmonics guides the ceremony—crystal singing bowls\, celestial gongs\, shamanic drums\, and harmonic voices weaving a sonic temple. The music carries you deeper\, amplifying love’s resonance\, and bathing the space in frequencies of harmony and remembrance. This Ceremony Is For Lovers ready to deepen intimacy\, trust\, and spiritual companionship.Sacred partners yearning to honor the divine Masculine & Feminine within and between them.Beloveds who wish to embody authentic vulnerability\, tenderness\, and devotion.Singles who are willing to align in synergy with their future Soulmate.What is included? Cup of Organic Ceremonial Rose Cacao BrewGuided Breathwork MeditationGuided Sacred Union Tantra MeditationFree gift ~Elite Muscle Rub Oil ($30 value)Transformational Sacred Sound Healing JourneyWhat to Bring: Comfortable clothing suitable for sitting\, gentle movement\, and relaxationA yoga mat\, blanket\, or shawl for comfort during the sound journeyA water bottleAn open heart and willingness to engage in a conscious\, respectful\, and heart-centered experience.No prior tantra or meditation experience is required. 								\n				\n				\n						\n					\n			\n						\n				\n									May your union be blissed. May your love be eternal. May you remember who you are in each other’s gaze. Reserve your spot for this transformational experience on VALENTINES DAY! 								\n				\n					\n		\n					\n		\n				\n						\n					\n			\n						\n				\n					+ Google Calendar+ ICalendar+Outlook Live				\n				\n					\n		\n					\n		\n				\n						\n					\n			\n						\n				\n									\n					\n						\n									SINGLE\n					\n					\n				\n								\n				\n					\n		\n				\n			\n						\n				\n									\n					\n						\n									COUPLE
URL:https://rykyoga.com/event/sacred-union-tantra-rose-cacao-ceremony/
CATEGORIES:Special Events
ATTACH;FMTTYPE=image/png:https://rykyoga.com/wp-content/uploads/2026/01/Sacred-Union.png
END:VEVENT
END:VCALENDAR