BEGIN:VCALENDAR
VERSION:2.0
PRODID:-//Raise Your Kundalini Yoga and Meditation Center of Las Vegas - ECPv6.15.20//NONSGML v1.0//EN
CALSCALE:GREGORIAN
METHOD:PUBLISH
X-WR-CALNAME:Raise Your Kundalini Yoga and Meditation Center of Las Vegas
X-ORIGINAL-URL:https://rykyoga.com
X-WR-CALDESC:Events for Raise Your Kundalini Yoga and Meditation Center of Las Vegas
REFRESH-INTERVAL;VALUE=DURATION:PT1H
X-Robots-Tag:noindex
X-PUBLISHED-TTL:PT1H
BEGIN:VTIMEZONE
TZID:America/Los_Angeles
BEGIN:DAYLIGHT
TZOFFSETFROM:-0800
TZOFFSETTO:-0700
TZNAME:PDT
DTSTART:20240310T100000
END:DAYLIGHT
BEGIN:STANDARD
TZOFFSETFROM:-0700
TZOFFSETTO:-0800
TZNAME:PST
DTSTART:20241103T090000
END:STANDARD
BEGIN:DAYLIGHT
TZOFFSETFROM:-0800
TZOFFSETTO:-0700
TZNAME:PDT
DTSTART:20250309T100000
END:DAYLIGHT
BEGIN:STANDARD
TZOFFSETFROM:-0700
TZOFFSETTO:-0800
TZNAME:PST
DTSTART:20251102T090000
END:STANDARD
BEGIN:DAYLIGHT
TZOFFSETFROM:-0800
TZOFFSETTO:-0700
TZNAME:PDT
DTSTART:20260308T100000
END:DAYLIGHT
BEGIN:STANDARD
TZOFFSETFROM:-0700
TZOFFSETTO:-0800
TZNAME:PST
DTSTART:20261101T090000
END:STANDARD
END:VTIMEZONE
BEGIN:VEVENT
DTSTART;TZID=America/Los_Angeles:20251101T180000
DTEND;TZID=America/Los_Angeles:20251101T193000
DTSTAMP:20260425T145646
CREATED:20251013T231022Z
LAST-MODIFIED:20260210T183431Z
UID:29342-1762020000-1762025400@rykyoga.com
SUMMARY:Sacred Sound: A Kirtan Experience
DESCRIPTION:.				\n				\n					\n		\n					\n		\n					\n		\n					\n		\n				\n							\n							\n					\n			\n						\n				\n					Sacred Sound: A Kirtan Experience​Voices of the Divine: A Kirtan Journey				\n				\n				\n				\n					\n		\n			November 1\n\n	\n\n	  @  \n\n\n6:00 pm\n\n		\n\n\n\n	\n	  -  \n\n7:30 pm\n\n\n\n	\n				\n				\n				\n				\n									$30 IN PERSON\, $20 ONLINE 								\n				\n		\n					\n					\n				\n				\n				\n									Celebrate devotion\, unity\, and the power of sacred music in this immersive evening of authentic kirtan\, mantra\, and heart-centered community connection. Join us for a deeply nourishing sonic journey\, where ancient chants meet modern hearts. In this space of invocation and prayer\, we’ll unite our voices and experience the transformative energy of sacred sound. This one-of-a-kind evening features renowned devotional musicians from India\, deeply rooted in the living traditions of Bhakti Yoga\, Sikh Shabads\, Sufi Qawwali\, and Tibetan Mantras. Their soulful presence and masterful instrumentation—harmonium\, tabla\, and voices full of devotion—create a vibrational field of healing\, joy\, and remembrance. Through the sacred practice of call and response chanting\, you’ll be guided into a space of connection and surrender. These mantras arise from diverse spiritual lineages\, yet speak the same universal language of the heart. You don’t need to be a singer\, a yogi\, or follow any particular path—just bring an open mind and a willing voice. Whether it’s your first time or your hundredth\, this is a chance to reconnect with your inner stillness\, your aliveness\, and the collective soul of community. More than a concert\, this is a gathering of hearts—an evening of healing\, joy\, and spiritual awakening! 								\n				\n				\n						\n					\n			\n						\n				\n					+ Google Calendar+ ICalendar+Outlook Live
URL:https://rykyoga.com/event/sacred-sound-a-kirtan-experience/
CATEGORIES:Special Events
ATTACH;FMTTYPE=image/jpeg:https://rykyoga.com/wp-content/uploads/2025/10/Kirtan.jpeg
END:VEVENT
END:VCALENDAR