BEGIN:VCALENDAR
VERSION:2.0
PRODID:-//Raise Your Kundalini Yoga and Meditation Center of Las Vegas - ECPv6.15.20//NONSGML v1.0//EN
CALSCALE:GREGORIAN
METHOD:PUBLISH
X-WR-CALNAME:Raise Your Kundalini Yoga and Meditation Center of Las Vegas
X-ORIGINAL-URL:https://rykyoga.com
X-WR-CALDESC:Events for Raise Your Kundalini Yoga and Meditation Center of Las Vegas
REFRESH-INTERVAL;VALUE=DURATION:PT1H
X-Robots-Tag:noindex
X-PUBLISHED-TTL:PT1H
BEGIN:VTIMEZONE
TZID:America/Los_Angeles
BEGIN:DAYLIGHT
TZOFFSETFROM:-0800
TZOFFSETTO:-0700
TZNAME:PDT
DTSTART:20240310T100000
END:DAYLIGHT
BEGIN:STANDARD
TZOFFSETFROM:-0700
TZOFFSETTO:-0800
TZNAME:PST
DTSTART:20241103T090000
END:STANDARD
BEGIN:DAYLIGHT
TZOFFSETFROM:-0800
TZOFFSETTO:-0700
TZNAME:PDT
DTSTART:20250309T100000
END:DAYLIGHT
BEGIN:STANDARD
TZOFFSETFROM:-0700
TZOFFSETTO:-0800
TZNAME:PST
DTSTART:20251102T090000
END:STANDARD
BEGIN:DAYLIGHT
TZOFFSETFROM:-0800
TZOFFSETTO:-0700
TZNAME:PDT
DTSTART:20260308T100000
END:DAYLIGHT
BEGIN:STANDARD
TZOFFSETFROM:-0700
TZOFFSETTO:-0800
TZNAME:PST
DTSTART:20261101T090000
END:STANDARD
END:VTIMEZONE
BEGIN:VEVENT
DTSTART;TZID=America/Los_Angeles:20251218T180000
DTEND;TZID=America/Los_Angeles:20251218T200000
DTSTAMP:20260425T144914
CREATED:20241120T214238Z
LAST-MODIFIED:20260210T183431Z
UID:25120-1766080800-1766088000@rykyoga.com
SUMMARY:New Moon Meditation for a New You
DESCRIPTION:This Event has passed.				\n				\n				\n				\n					\n		18\n		December\n		2025\n						\n				\n				\n				\n					New Moon Meditation				\n				\n				\n				\n									\n					\n						\n									Reserve a spot\n					\n					\n				\n								\n				\n					\n		\n					\n		\n					\n		\n					\n		\n				\n							\n							\n					\n			\n						\n				\n																														\n				\n				\n				\n					New Moon Meditation for a New You				\n				\n				\n				\n					\n		\n			December 18\n\n	\n\n	  @  \n\n\n6:00 pm\n\n		\n\n\n\n	\n	  -  \n\n8:00 pm\n\n\n\n	\n				\n				\n				\n				\n									$30 IN PERSON\, $20 ONLINE 								\n				\n		\n					\n					\n				\n				\n				\n									Ready to release the past and welcome a brighter\, lighter 2026? Join us for a powerful New Moon Meditation designed to help you shed old emotions\, experience deep catharsis\, and move freely into the New Year. This is a rare opportunity to reset\, realign\, and reconnect with your true self. What Makes This Meditation Special: Dynamic StagesWe’ll guide you through breathwork\, cathartic release\, mantra chanting\, stillness\, free movement\, and joyful celebration. This fast-paced\, multi-layered journey helps dissolve ingrained emotional and mental patterns that may be holding you back.Powerful CatharsisExperience a full-body and soul-level release. Walk out feeling lighter\, clearer\, and more alive—ready to begin again.Emotional PurificationThis technique clears toxicity and repressed energy\, enhances awareness\, and opens space for peace\, silence\, and grace.								\n				\n				\n						\n					\n			\n						\n				\n									“You can’t enjoy the present while dragging the weight of the past. One powerful meditation can release it all. You owe it to your soul.”— Mahadev 								\n				\n					\n		\n					\n		\n				\n						\n					\n			\n						\n				\n									Why Now?The New Moon marks a potent energetic reset. It’s a time to plant new seeds and make space for the version of you that’s waiting to be lived. This meditation aligns you with that energy—so your intentions carry more power and your vision gains momentum. After the Meditation:Melt into the soundscape of a LIVE Gong Bath. The healing frequencies will help integrate the energy\, deepen the experience\, and ground your transformation. Spots are Limited!To keep the experience deep and personal\, we’re limiting this event to just 39 participants. RSVP now to reserve your place. Take the First Step Toward a New YouRelease the weight of the past. Reclaim your joy. Start 2026 aligned\, renewed\, and ready! 								\n				\n				\n				\n					+ Google Calendar+ ICalendar+Outlook Live
URL:https://rykyoga.com/event/new-moon-meditation-new-you/
CATEGORIES:New Moon Meditation
ATTACH;FMTTYPE=image/jpeg:https://rykyoga.com/wp-content/uploads/2017/11/baby-shiva-new-moon-meditation.jpg
END:VEVENT
END:VCALENDAR