BEGIN:VCALENDAR
VERSION:2.0
PRODID:-//Raise Your Kundalini Yoga and Meditation Center of Las Vegas - ECPv6.15.20//NONSGML v1.0//EN
CALSCALE:GREGORIAN
METHOD:PUBLISH
X-WR-CALNAME:Raise Your Kundalini Yoga and Meditation Center of Las Vegas
X-ORIGINAL-URL:https://rykyoga.com
X-WR-CALDESC:Events for Raise Your Kundalini Yoga and Meditation Center of Las Vegas
REFRESH-INTERVAL;VALUE=DURATION:PT1H
X-Robots-Tag:noindex
X-PUBLISHED-TTL:PT1H
BEGIN:VTIMEZONE
TZID:America/Los_Angeles
BEGIN:DAYLIGHT
TZOFFSETFROM:-0800
TZOFFSETTO:-0700
TZNAME:PDT
DTSTART:20240310T100000
END:DAYLIGHT
BEGIN:STANDARD
TZOFFSETFROM:-0700
TZOFFSETTO:-0800
TZNAME:PST
DTSTART:20241103T090000
END:STANDARD
BEGIN:DAYLIGHT
TZOFFSETFROM:-0800
TZOFFSETTO:-0700
TZNAME:PDT
DTSTART:20250309T100000
END:DAYLIGHT
BEGIN:STANDARD
TZOFFSETFROM:-0700
TZOFFSETTO:-0800
TZNAME:PST
DTSTART:20251102T090000
END:STANDARD
BEGIN:DAYLIGHT
TZOFFSETFROM:-0800
TZOFFSETTO:-0700
TZNAME:PDT
DTSTART:20260308T100000
END:DAYLIGHT
BEGIN:STANDARD
TZOFFSETFROM:-0700
TZOFFSETTO:-0800
TZNAME:PST
DTSTART:20261101T090000
END:STANDARD
END:VTIMEZONE
BEGIN:VEVENT
DTSTART;TZID=America/Los_Angeles:20250921T120000
DTEND;TZID=America/Los_Angeles:20250921T140000
DTSTAMP:20260425T173327
CREATED:20250825T203915Z
LAST-MODIFIED:20260210T183431Z
UID:28701-1758456000-1758463200@rykyoga.com
SUMMARY:New Moon Solar Eclipse Meditation - Embrace the Cosmic Shift
DESCRIPTION:This Event has passed.				\n				\n				\n				\n					\n		21\n		September\n		2025\n						\n				\n				\n				\n					New Moon Meditation				\n				\n				\n				\n									\n					\n						\n									Reserve a spot\n					\n					\n				\n								\n				\n					\n		\n					\n		\n					\n		\n					\n		\n				\n							\n							\n					\n			\n						\n				\n																														\n				\n				\n				\n					New Moon Solar Eclipse Meditation\nEmbrace the Cosmic Shift				\n				\n				\n				\n					\n		\n			September 21\n\n	\n\n	  @  \n\n\n12:00 pm\n\n		\n\n\n\n	\n	  -  \n\n2:00 pm\n\n\n\n	\n				\n				\n				\n				\n									$30 IN PERSON\, $20 ONLINE 								\n				\n		\n					\n					\n				\n				\n				\n									Step into the power of a rare and potent cosmic alignment: the New Moon Solar Eclipse in Virgo. This is the only Solar Eclipse in the current Virgo-Pisces cycle (2024–2027)\, making it a profoundly significant moment for introspection\, release\, and a powerful reset. We often carry mental clutter\, daily distractions\, and emotional habits that keep us stuck in cycles of overdoing and self-criticism. Without moments of stillness and intention\, our systems – inner and outer – can fall out of alignment\, leaving us overwhelmed or disconnected. This New Moon Solar Eclipse at the final degree of Virgo shines a spotlight on the systems in our lives that are outdated or no longer serve us. It calls for refinement\, release\, and the courage to step into a new chapter. Even if the path ahead feels unknown\, this lunation opens the doorway to healing\, service\, and purpose—especially around work\, wellness\, and self-awareness. Join us on Sunday\, September 21st for a special New Moon Solar Eclipse Meditation. We’ll practice ancient techniques from Kundalini Yoga\, Pranayam\, and Meditation\, guiding you to reorganize your energy\, clear inner clutter\, and align with a higher rhythm of wholeness. This event also includes a special Gong Bath\, designed to dissolve resistance and integrate the cosmic shifts through deep vibrational healing. 								\n				\n				\n						\n					\n			\n						\n				\n									“Eclipses open hidden doorways within – enter them with stillness and reverence\, and return with truth.” – Cosmin Mahadev Singh 								\n				\n					\n		\n					\n		\n				\n						\n					\n			\n						\n				\n									Space is limited to 49 participants.RSVP now to reserve your spot in this transformative eclipse portal. 								\n				\n				\n				\n					+ Google Calendar+ ICalendar+Outlook Live
URL:https://rykyoga.com/event/new-moon-meditation-embrace-the-cosmic-shift/
CATEGORIES:New Moon Meditation
ATTACH;FMTTYPE=image/jpeg:https://rykyoga.com/wp-content/uploads/2019/06/new-moon-total-solar-eclipse-meditation-for-healing.jpg
END:VEVENT
END:VCALENDAR