BEGIN:VCALENDAR
VERSION:2.0
PRODID:-//Raise Your Kundalini Yoga and Meditation Center of Las Vegas - ECPv6.15.20//NONSGML v1.0//EN
CALSCALE:GREGORIAN
METHOD:PUBLISH
X-WR-CALNAME:Raise Your Kundalini Yoga and Meditation Center of Las Vegas
X-ORIGINAL-URL:https://rykyoga.com
X-WR-CALDESC:Events for Raise Your Kundalini Yoga and Meditation Center of Las Vegas
REFRESH-INTERVAL;VALUE=DURATION:PT1H
X-Robots-Tag:noindex
X-PUBLISHED-TTL:PT1H
BEGIN:VTIMEZONE
TZID:America/Los_Angeles
BEGIN:DAYLIGHT
TZOFFSETFROM:-0800
TZOFFSETTO:-0700
TZNAME:PDT
DTSTART:20250309T100000
END:DAYLIGHT
BEGIN:STANDARD
TZOFFSETFROM:-0700
TZOFFSETTO:-0800
TZNAME:PST
DTSTART:20251102T090000
END:STANDARD
BEGIN:DAYLIGHT
TZOFFSETFROM:-0800
TZOFFSETTO:-0700
TZNAME:PDT
DTSTART:20260308T100000
END:DAYLIGHT
BEGIN:STANDARD
TZOFFSETFROM:-0700
TZOFFSETTO:-0800
TZNAME:PST
DTSTART:20261101T090000
END:STANDARD
BEGIN:DAYLIGHT
TZOFFSETFROM:-0800
TZOFFSETTO:-0700
TZNAME:PDT
DTSTART:20270314T100000
END:DAYLIGHT
BEGIN:STANDARD
TZOFFSETFROM:-0700
TZOFFSETTO:-0800
TZNAME:PST
DTSTART:20271107T090000
END:STANDARD
END:VTIMEZONE
BEGIN:VEVENT
DTSTART;TZID=America/Los_Angeles:20260328T180000
DTEND;TZID=America/Los_Angeles:20260328T200000
DTSTAMP:20260425T042821
CREATED:20260217T201102Z
LAST-MODIFIED:20260323T173720Z
UID:31052-1774720800-1774728000@rykyoga.com
SUMMARY:Kirtan Awakening
DESCRIPTION:This Event has passed.				\n				\n					\n		\n					\n		\n					\n		\n					\n		\n				\n							\n							\n					\n			\n						\n				\n									Saturday\, March 28 @ 6pm-8pm $25 IN-PERSON 								\n				\n				\n				\n					Kirtan Awakening\n				\n				\n				\n						\n					\n			\n						\n				\n									\n					\n						\n									IN-PERSON\n					\n					\n				\n								\n				\n					\n		\n					\n		\n				\n				\n									Join us for a special evening of kirtan—devotional call-and-response chanting—on Saturday\, February 28th at 6:00 PM at RYK. Led by Joei\, Nancy\, and Liam\, with Joe on percussion and drums\, this kirtan offers a heart-centered\, devotional space rooted in Bhakti Yoga. Together\, we’ll chant simple mantras in a call-and-response style\, allowing rhythm\, voice\, and breath to open the heart and deepen our sense of connection. No experience is needed—just come as you are. As we chant and breathe together\, you’re invited to slow down\, soften\, and reconnect through music\, devotion\, and community. We look forward to sharing this special evening with you. 								\n				\n				\n						\n					\n			\n						\n				\n									Space is limited to 69 participants. RSVP now to reserve your spot. 								\n				\n					\n		\n					\n		\n				\n						\n					\n			\n						\n				\n					+ Google Calendar+ ICalendar+Outlook Live
URL:https://rykyoga.com/event/kirtan-awakening-3/
CATEGORIES:Special Events
ATTACH;FMTTYPE=image/jpeg:https://rykyoga.com/wp-content/uploads/2026/01/kritan-awakening-tn.jpg
END:VEVENT
END:VCALENDAR