BEGIN:VCALENDAR
VERSION:2.0
PRODID:-//Raise Your Kundalini Yoga and Meditation Center of Las Vegas - ECPv6.15.20//NONSGML v1.0//EN
CALSCALE:GREGORIAN
METHOD:PUBLISH
X-WR-CALNAME:Raise Your Kundalini Yoga and Meditation Center of Las Vegas
X-ORIGINAL-URL:https://rykyoga.com
X-WR-CALDESC:Events for Raise Your Kundalini Yoga and Meditation Center of Las Vegas
REFRESH-INTERVAL;VALUE=DURATION:PT1H
X-Robots-Tag:noindex
X-PUBLISHED-TTL:PT1H
BEGIN:VTIMEZONE
TZID:America/Los_Angeles
BEGIN:DAYLIGHT
TZOFFSETFROM:-0800
TZOFFSETTO:-0700
TZNAME:PDT
DTSTART:20220313T100000
END:DAYLIGHT
BEGIN:STANDARD
TZOFFSETFROM:-0700
TZOFFSETTO:-0800
TZNAME:PST
DTSTART:20221106T090000
END:STANDARD
BEGIN:DAYLIGHT
TZOFFSETFROM:-0800
TZOFFSETTO:-0700
TZNAME:PDT
DTSTART:20230312T100000
END:DAYLIGHT
BEGIN:STANDARD
TZOFFSETFROM:-0700
TZOFFSETTO:-0800
TZNAME:PST
DTSTART:20231105T090000
END:STANDARD
BEGIN:DAYLIGHT
TZOFFSETFROM:-0800
TZOFFSETTO:-0700
TZNAME:PDT
DTSTART:20240310T100000
END:DAYLIGHT
BEGIN:STANDARD
TZOFFSETFROM:-0700
TZOFFSETTO:-0800
TZNAME:PST
DTSTART:20241103T090000
END:STANDARD
END:VTIMEZONE
BEGIN:VEVENT
DTSTART;VALUE=DATE:20230824
DTEND;VALUE=DATE:20230828
DTSTAMP:20260423T015633
CREATED:20230515T003750Z
LAST-MODIFIED:20260210T183432Z
UID:17438-1692835200-1693180799@rykyoga.com
SUMMARY:Intro to the Science of Meditation
DESCRIPTION:Unlock the full potential of your mind and body with our retreat on the Science of Meditation. This special program is designed to give you a comprehensive introduction to the world of meditation\, including its many benefits\, different methods of practice\, and practical tips for incorporating it into your daily life. Whether you’re new to meditation or looking to deepen your practice\, this retreat is the perfect opportunity to gain a deeper understanding of the power of this ancient spiritual practice. “Meditation is nothing but a device to make you aware of your real self – which is not created by you\, which need not be created by you\, which you already are. You are born with it. You are it! It.” – Osho Meditation is known to reduce stress\, negative emotions and anxiety\, improve focus and concentration\, increase self-awareness\, promote a sense of inner peace and well-being. It can also improve sleep\, boost the immune system\, lower blood pressure and much more. Enjoy the amazing natural setting and great energy of our retreat center\, far away from the hustle and bustle of everyday life as well as the company of a like-minded spiritual community. Detox and nourish with organic Ayurvedic food that supports your journey of purification and rejuvenation. Unleash the potential of your mind for a healthier and happier life. Join us for this special retreat to discover the benefits of incorporating a regular meditation practice for yourself!
URL:https://rykyoga.com/event/intro-to-the-science-of-meditation/
CATEGORIES:Weekend Retreats
ATTACH;FMTTYPE=image/jpeg:https://rykyoga.com/wp-content/uploads/2023/05/intro-to-the-science-of-meditation-pic.jpg
END:VEVENT
END:VCALENDAR