BEGIN:VCALENDAR
VERSION:2.0
PRODID:-//Raise Your Kundalini Yoga and Meditation Center of Las Vegas - ECPv6.15.20//NONSGML v1.0//EN
CALSCALE:GREGORIAN
METHOD:PUBLISH
X-WR-CALNAME:Raise Your Kundalini Yoga and Meditation Center of Las Vegas
X-ORIGINAL-URL:https://rykyoga.com
X-WR-CALDESC:Events for Raise Your Kundalini Yoga and Meditation Center of Las Vegas
REFRESH-INTERVAL;VALUE=DURATION:PT1H
X-Robots-Tag:noindex
X-PUBLISHED-TTL:PT1H
BEGIN:VTIMEZONE
TZID:America/Los_Angeles
BEGIN:DAYLIGHT
TZOFFSETFROM:-0800
TZOFFSETTO:-0700
TZNAME:PDT
DTSTART:20240310T100000
END:DAYLIGHT
BEGIN:STANDARD
TZOFFSETFROM:-0700
TZOFFSETTO:-0800
TZNAME:PST
DTSTART:20241103T090000
END:STANDARD
BEGIN:DAYLIGHT
TZOFFSETFROM:-0800
TZOFFSETTO:-0700
TZNAME:PDT
DTSTART:20250309T100000
END:DAYLIGHT
BEGIN:STANDARD
TZOFFSETFROM:-0700
TZOFFSETTO:-0800
TZNAME:PST
DTSTART:20251102T090000
END:STANDARD
BEGIN:DAYLIGHT
TZOFFSETFROM:-0800
TZOFFSETTO:-0700
TZNAME:PDT
DTSTART:20260308T100000
END:DAYLIGHT
BEGIN:STANDARD
TZOFFSETFROM:-0700
TZOFFSETTO:-0800
TZNAME:PST
DTSTART:20261101T090000
END:STANDARD
END:VTIMEZONE
BEGIN:VEVENT
DTSTART;TZID=America/Los_Angeles:20250907T120000
DTEND;TZID=America/Los_Angeles:20250907T140000
DTSTAMP:20260425T173159
CREATED:20250825T203918Z
LAST-MODIFIED:20260210T183431Z
UID:28700-1757246400-1757253600@rykyoga.com
SUMMARY:Full Moon Lunar Eclipse Meditation to Make the Impossible Possible
DESCRIPTION:This Event has passed.				\n				\n				\n				\n					\n		07\n		September\n		2025\n						\n				\n				\n				\n					Full Moon Meditation				\n				\n				\n				\n									\n					\n						\n									Reserve a spot\n					\n					\n				\n								\n				\n					\n		\n					\n		\n					\n		\n					\n		\n				\n							\n							\n					\n			\n						\n				\n																														\n				\n				\n				\n					Lunar Eclipse Meditation to Make the Impossible Possible 				\n				\n				\n				\n					\n		\n			September 7\n\n	\n\n	  @  \n\n\n12:00 pm\n\n		\n\n\n\n	\n	  -  \n\n2:00 pm\n\n\n\n	\n				\n				\n				\n				\n									$30 IN PERSON\, $20 ONLINE 								\n				\n		\n					\n					\n				\n				\n				\n									Tap Into Infinite Possibilities with the Full Moon Meditation and Lunar Eclipse Energy! In our lives\, we often encounter obstacles that seem insurmountable. These challenges\, rooted in our past actions and thoughts\, can block our path to happiness\, success\, and fulfillment. But what if there was a way to clear these blocks and transcend the limitations of our programs? On this special day\, not only do we conclude the celebration of Lord Ganesha’s birthday\, but we are also blessed with the powerful energy of a Full Moon and Lunar Eclipse. This rare alignment offers a unique opportunity to break through barriers and make the impossible possible. Join us for a Full Moon Meditation inspired by the wisdom of Lord Ganesha\, the God of Happiness\, Prosperity\, and Good Fortune. This meditation will help you let go of attachments to the mind and past actions\, enabling you to create a fulfilled life and a joyful future. The meditation’s power is amplified by the full moon and the transformative energy of the lunar eclipse\, making it an ideal time for spiritual practice. Space is limited to 49 participants. RSVP now to secure your spot and experience the transformative power of this meditation during this celestial event. 								\n				\n				\n						\n					\n			\n						\n				\n									“Lord Ganesha\, the embodiment of wisdom and new beginnings\, reminds us that with the right mindset\, any obstacle can be transformed into an opportunity.”– Cosmin Mahadev Singh 								\n				\n					\n		\n					\n		\n				\n						\n					\n			\n						\n				\n									Enhance your meditation experience with the vibrations of a powerful Gong Bath immediately following the practice. Let the sound waves penetrate deep into your being\, supporting your journey of transformation. 								\n				\n				\n				\n					+ Google Calendar+ ICalendar+Outlook Live
URL:https://rykyoga.com/event/full-moon-meditation-to-make-the-impossible-possible/
CATEGORIES:Full Moon Meditation
ATTACH;FMTTYPE=image/jpeg:https://rykyoga.com/wp-content/uploads/2021/08/ganesha-gunpati-kriya-meditation.jpg
END:VEVENT
END:VCALENDAR