BEGIN:VCALENDAR
VERSION:2.0
PRODID:-//Raise Your Kundalini Yoga and Meditation Center of Las Vegas - ECPv6.15.20//NONSGML v1.0//EN
CALSCALE:GREGORIAN
METHOD:PUBLISH
X-WR-CALNAME:Raise Your Kundalini Yoga and Meditation Center of Las Vegas
X-ORIGINAL-URL:https://rykyoga.com
X-WR-CALDESC:Events for Raise Your Kundalini Yoga and Meditation Center of Las Vegas
REFRESH-INTERVAL;VALUE=DURATION:PT1H
X-Robots-Tag:noindex
X-PUBLISHED-TTL:PT1H
BEGIN:VTIMEZONE
TZID:America/Los_Angeles
BEGIN:DAYLIGHT
TZOFFSETFROM:-0800
TZOFFSETTO:-0700
TZNAME:PDT
DTSTART:20220313T100000
END:DAYLIGHT
BEGIN:STANDARD
TZOFFSETFROM:-0700
TZOFFSETTO:-0800
TZNAME:PST
DTSTART:20221106T090000
END:STANDARD
BEGIN:DAYLIGHT
TZOFFSETFROM:-0800
TZOFFSETTO:-0700
TZNAME:PDT
DTSTART:20230312T100000
END:DAYLIGHT
BEGIN:STANDARD
TZOFFSETFROM:-0700
TZOFFSETTO:-0800
TZNAME:PST
DTSTART:20231105T090000
END:STANDARD
BEGIN:DAYLIGHT
TZOFFSETFROM:-0800
TZOFFSETTO:-0700
TZNAME:PDT
DTSTART:20240310T100000
END:DAYLIGHT
BEGIN:STANDARD
TZOFFSETFROM:-0700
TZOFFSETTO:-0800
TZNAME:PST
DTSTART:20241103T090000
END:STANDARD
END:VTIMEZONE
BEGIN:VEVENT
DTSTART;VALUE=DATE:20230709
DTEND;VALUE=DATE:20230717
DTSTAMP:20260425T041128
CREATED:20230514T210006Z
LAST-MODIFIED:20260210T183432Z
UID:17377-1688860800-1689551999@rykyoga.com
SUMMARY:Clearing the Subconscious Mind
DESCRIPTION:There are only two relationships you can have with your own mind: it is either a great servant helping you live the life you have always wanted\, or it is your worst enemy hindering you from creating the future you desire! 95% of your life is controlled by your subconscious mind via programming\, and limiting belief systems downloaded in your software by your family\, education system\, religion\, and society in general. That means that you are really in charge of only a maximum of 5% of the things you experience in your life. You have actually been conditioned to grow into who you are and to live the life you do right now. If you do not want to be a victim of your subconscious\, then you have a choice: un-program all the beliefs that drive your behavior and make up a distorted reality. “What you think you become” Your subconscious mind is the key to success: understand it\, clean it\, and take control. It is your mind that has the power to stop you from living a fulfilling\, successful life or sabotage you into a negative and unhappy existence. Through the most effective and powerful tools from Kundalini Yoga\, along with ancient Meditations\, you can upgrade your subconscious programming. Just like you uninstall apps from your phone so\, you have to maintain your mind clean and updated with the best version of the software to serve you. Whatever facet of your life you want to change (health\, prosperity\, relationships\, emotional\, spiritual growth\, etc.) you must use the power of the mind to re-design a conscious life that gives you contentment\, joy\, excellence\, and awareness! Let’s use very powerful ancient techniques along with being in the middle of mother nature in a special\, secluded\, and peaceful environment to shift you from an unconscious living to a higher frequency where you can access your true self and your highest potential!
URL:https://rykyoga.com/event/clearing-the-subconscious-mind/
CATEGORIES:7 Day Retreats
ATTACH;FMTTYPE=image/jpeg:https://rykyoga.com/wp-content/uploads/2023/05/clearing-the-subconscious-mind-banner.jpg
END:VEVENT
END:VCALENDAR