BEGIN:VCALENDAR
VERSION:2.0
PRODID:-//Raise Your Kundalini Yoga and Meditation Center of Las Vegas - ECPv6.15.20//NONSGML v1.0//EN
CALSCALE:GREGORIAN
METHOD:PUBLISH
X-WR-CALNAME:Raise Your Kundalini Yoga and Meditation Center of Las Vegas
X-ORIGINAL-URL:https://rykyoga.com
X-WR-CALDESC:Events for Raise Your Kundalini Yoga and Meditation Center of Las Vegas
REFRESH-INTERVAL;VALUE=DURATION:PT1H
X-Robots-Tag:noindex
X-PUBLISHED-TTL:PT1H
BEGIN:VTIMEZONE
TZID:America/Los_Angeles
BEGIN:DAYLIGHT
TZOFFSETFROM:-0800
TZOFFSETTO:-0700
TZNAME:PDT
DTSTART:20240310T100000
END:DAYLIGHT
BEGIN:STANDARD
TZOFFSETFROM:-0700
TZOFFSETTO:-0800
TZNAME:PST
DTSTART:20241103T090000
END:STANDARD
BEGIN:DAYLIGHT
TZOFFSETFROM:-0800
TZOFFSETTO:-0700
TZNAME:PDT
DTSTART:20250309T100000
END:DAYLIGHT
BEGIN:STANDARD
TZOFFSETFROM:-0700
TZOFFSETTO:-0800
TZNAME:PST
DTSTART:20251102T090000
END:STANDARD
BEGIN:DAYLIGHT
TZOFFSETFROM:-0800
TZOFFSETTO:-0700
TZNAME:PDT
DTSTART:20260308T100000
END:DAYLIGHT
BEGIN:STANDARD
TZOFFSETFROM:-0700
TZOFFSETTO:-0800
TZNAME:PST
DTSTART:20261101T090000
END:STANDARD
END:VTIMEZONE
BEGIN:VEVENT
DTSTART;TZID=America/Los_Angeles:20250808T180000
DTEND;TZID=America/Los_Angeles:20250808T200000
DTSTAMP:20260425T190303
CREATED:20250729T224137Z
LAST-MODIFIED:20260210T183431Z
UID:28578-1754676000-1754683200@rykyoga.com
SUMMARY:8/8 Lion's Gate Portal Activation
DESCRIPTION:This Event has passed.				\n				\n				\n				\n					\n		08\n		August\n		2025\n						\n				\n				\n				\n					8/8				\n				\n				\n				\n									\n					\n						\n									Reserve a spot\n					\n					\n				\n								\n				\n					\n		\n					\n		\n					\n		\n					\n		\n				\n							\n							\n					\n			\n						\n				\n					Lion’s Gate Portal Activation FREE Community Event				\n				\n				\n				\n					\n		\n			August 8\n\n	\n\n	  @  \n\n\n6:00 pm\n\n		\n\n\n\n	\n	  -  \n\n8:00 pm\n\n\n\n	\n				\n				\n				\n				\n									Join us for a unique event celebrating the special cosmic alignment: the Lion’s Gateway. This is an auspicious time of increased energy through a dynamic portal between the Earth\, the Sun and Sirius – our “Spiritual Sun”. Our ancestors believed Sirius was the gateway to heaven and the home of highly evolved beings. The increased cosmic energy flowing between the physical and spiritual realms brings advanced wisdom\, high vibrational frequencies to awaken & upgrade your DNA\, and an opportunity for continuing and accelerating your evolution. By using ancient practices from Kundalini Yoga and Meditation we`ll tap into profound and powerful source of spiritual light to enhance your energy field\, awaken your Divine Self and embody it within your physical form. The energy of Sirius and this alignment with the Earth and the Sun opens up a channel to lift our consciousness to new heights\, with courage\, power and abundance! In numerology the number 8/8 represents infinity\, immortality and DNA activation\, allowing us to take this abundant energy and infuse at the cellular level of our being. 								\n				\n				\n						\n					\n			\n						\n				\n									“Lion’s Gate opens the path not just to the stars – but to the Truth already encoded within you.” – Cosmin Mahadev Singh 								\n				\n					\n		\n					\n		\n				\n						\n					\n			\n						\n				\n									Online only | RSVP required to receive the private Zoom link. 								\n				\n				\n				\n					+ Google Calendar+ ICalendar+Outlook Live
URL:https://rykyoga.com/event/8-8-lions-gate-portal-activation/
CATEGORIES:Special Events
ATTACH;FMTTYPE=image/jpeg:https://rykyoga.com/wp-content/uploads/2023/07/lions-gate.jpg
END:VEVENT
END:VCALENDAR