BEGIN:VCALENDAR
VERSION:2.0
PRODID:-//Raise Your Kundalini Yoga and Meditation Center of Las Vegas - ECPv6.15.20//NONSGML v1.0//EN
CALSCALE:GREGORIAN
METHOD:PUBLISH
X-WR-CALNAME:Raise Your Kundalini Yoga and Meditation Center of Las Vegas
X-ORIGINAL-URL:https://rykyoga.com
X-WR-CALDESC:Events for Raise Your Kundalini Yoga and Meditation Center of Las Vegas
REFRESH-INTERVAL;VALUE=DURATION:PT1H
X-Robots-Tag:noindex
X-PUBLISHED-TTL:PT1H
BEGIN:VTIMEZONE
TZID:America/Los_Angeles
BEGIN:DAYLIGHT
TZOFFSETFROM:-0800
TZOFFSETTO:-0700
TZNAME:PDT
DTSTART:20240310T100000
END:DAYLIGHT
BEGIN:STANDARD
TZOFFSETFROM:-0700
TZOFFSETTO:-0800
TZNAME:PST
DTSTART:20241103T090000
END:STANDARD
BEGIN:DAYLIGHT
TZOFFSETFROM:-0800
TZOFFSETTO:-0700
TZNAME:PDT
DTSTART:20250309T100000
END:DAYLIGHT
BEGIN:STANDARD
TZOFFSETFROM:-0700
TZOFFSETTO:-0800
TZNAME:PST
DTSTART:20251102T090000
END:STANDARD
BEGIN:DAYLIGHT
TZOFFSETFROM:-0800
TZOFFSETTO:-0700
TZNAME:PDT
DTSTART:20260308T100000
END:DAYLIGHT
BEGIN:STANDARD
TZOFFSETFROM:-0700
TZOFFSETTO:-0800
TZNAME:PST
DTSTART:20261101T090000
END:STANDARD
BEGIN:DAYLIGHT
TZOFFSETFROM:-0800
TZOFFSETTO:-0700
TZNAME:PDT
DTSTART:20270314T100000
END:DAYLIGHT
BEGIN:STANDARD
TZOFFSETFROM:-0700
TZOFFSETTO:-0800
TZNAME:PST
DTSTART:20271107T090000
END:STANDARD
END:VTIMEZONE
BEGIN:VEVENT
DTSTART;TZID=America/Los_Angeles:20251231T210000
DTEND;TZID=America/Los_Angeles:20260101T000000
DTSTAMP:20260425T113709
CREATED:20251120T012349Z
LAST-MODIFIED:20260210T183431Z
UID:29791-1767214800-1767225600@rykyoga.com
SUMMARY:2026 New Year’s Eve Celebration
DESCRIPTION:This Event has passed.				\n				\n					\n		\n					\n		\n					\n		\n					\n		\n				\n							\n							\n					\n			\n						\n				\n					2026 New Year’s Eve Celebration				\n				\n				\n				\n					\n		\n			December 31\n\n	\n\n	  @  \n\n\n9:00 pm\n\n	\n\n		\n	\n	  -  \n\n	January 1\n\n	\n\n	  @  \n\n\n12:00 am\n\n\n\n	\n				\n				\n				\n				\n									$69 IN PERSON\, $29 ONLINE 								\n				\n		\n					\n					\n				\n				\n				\n									Kundalini Yoga · Meditation · Gong Bath · Numerology Ancient Yogic Cosmology · Eat · Drink · Dance 								\n				\n				\n				\n									This New Year’s Eve isn’t just a countdown—it’s the threshold into 2026\, a year that opens an entirely new nine-year cycle. With the fresh energy of a Universal Year 1\, 2026 invites new beginnings\, bold steps\, and a renewed sense of direction. It’s a powerful moment to step forward with clarity\, confidence\, and purpose. Join us as we close 2025 with open hearts and welcome the rising energy of 2026 through special Kundalini Kriyas\, Meditations\, and the healing resonance of a Gong Bath. Together\, we’ll honor the lessons of the past year – both the blessings and the challenges – release what no longer belongs\, and step into the New Year aligned with intention. We’ll also explore the numerology of 2026 for everyone\, giving you insight into your personal themes\, opportunities\, and the energetic tone of your year ahead. With major cosmic shifts emphasizing communication\, innovation\, and personal leadership\, 2026 encourages you to trust your intuition\, take initiative\, and begin your next chapter from a grounded\, awakened place. After our practice\, we’ll chant\, dance\, eat\, and celebrate with our spiritual community – welcoming the New Year in a warm\, conscious\, and joyful space. Delicious food and yogic tea are included\, so you can relax\, connect\, and enjoy the evening fully. Let’s gather as soul family\, release the old\, and set the direction for a bright and meaningful year ahead!   								\n				\n				\n						\n					\n			\n						\n				\n									The event is hosted at RYK Yoga & Meditation Center. Only 68 IN-PERSON spots available. 								\n				\n					\n		\n					\n		\n				\n						\n					\n			\n						\n				\n					+ Google Calendar+ ICalendar+Outlook Live
URL:https://rykyoga.com/event/2026-new-years-eve-celebration/
ATTACH;FMTTYPE=image/jpeg:https://rykyoga.com/wp-content/uploads/2025/11/New-Years-Eve-2026.jpg
END:VEVENT
END:VCALENDAR